BEGIN:VCALENDAR
VERSION:2.0
PRODID:icalendar-ruby
CALSCALE:GREGORIAN
METHOD:PUBLISH
BEGIN:VEVENT
DTSTAMP:20260422T223902Z
UID:5-406610@gracebible261.tithelysetup2.com
DTSTART:20260802T143000Z
DTEND:20260802T153000Z
CLASS:PUBLIC
CREATED:20260421T114823
DESCRIPTION:Sunday Worship
LAST-MODIFIED:20260421T114823
LOCATION:
SUMMARY:Sunday Worship
URL;VALUE=URI:https://gracebible261.tithelysetup2.com/events/sunday-worship
 /2026-08-02
END:VEVENT
END:VCALENDAR
