BEGIN:VCALENDAR
VERSION:2.0
PRODID:icalendar-ruby
CALSCALE:GREGORIAN
METHOD:PUBLISH
BEGIN:VEVENT
DTSTAMP:20260424T193916Z
UID:5-406623@gracebible261.tithelysetup2.com
DTSTART:20261101T153000Z
DTEND:20261101T163000Z
CLASS:PUBLIC
CREATED:20260421T114823
DESCRIPTION:Sunday Worship
LAST-MODIFIED:20260421T114823
LOCATION:
SUMMARY:Sunday Worship
URL;VALUE=URI:https://gracebible261.tithelysetup2.com/events/sunday-worship
 /2026-11-01
END:VEVENT
END:VCALENDAR
